BEGIN:VCALENDAR
VERSION:2.0
PRODID:-//Pecos River Trading//Events//EN
BEGIN:VEVENT
UID:14@www.maximuspetstore.com
DTSTAMP:20260422T111006Z
DTSTART:20260113T1000 AM00
DTEND:20260113T1200 PM00
SUMMARY:Puppy Training Workshop
DESCRIPTION:
END:VEVENT
END:VCALENDAR
