BEGIN:VCALENDAR
VERSION:2.0
PRODID:-//Pecos River Trading//Events//EN
BEGIN:VEVENT
UID:15@www.maximuspetstore.com
DTSTAMP:20260424T094939Z
DTSTART:20260120T1100 AM00
DTEND:20260120T400 PM00
SUMMARY:Cat Adoption Day
DESCRIPTION:
END:VEVENT
END:VCALENDAR
