BEGIN:VCALENDAR
VERSION:2.0
PRODID:-//Pecos River Trading//Events//EN
BEGIN:VEVENT
UID:16@www.maximuspetstore.com
DTSTAMP:20260422T111651Z
DTSTART:20260127T200 PM00
DTEND:20260127T330 PM00
SUMMARY:Aquarium Maintenance Class
DESCRIPTION:
END:VEVENT
END:VCALENDAR
