BEGIN:VCALENDAR
VERSION:2.0
PRODID:-//Pecos River Trading//Events//EN
BEGIN:VEVENT
UID:17@www.maximuspetstore.com
DTSTAMP:20260422T111217Z
DTSTART:20260203T100 PM00
DTEND:20260203T300 PM00
SUMMARY:Bird Lovers Meet & Greet
DESCRIPTION:
END:VEVENT
END:VCALENDAR
