BEGIN:VCALENDAR
VERSION:2.0
PRODID:-//Pecos River Trading//Events//EN
BEGIN:VEVENT
UID:18@www.maximuspetstore.com
DTSTAMP:20260422T111044Z
DTSTART:20260210T1100 AM00
DTEND:20260210T100 PM00
SUMMARY:Reptile Care 101
DESCRIPTION:
END:VEVENT
END:VCALENDAR
