BEGIN:VCALENDAR
VERSION:2.0
PRODID:-//Pecos River Trading//Events//EN
BEGIN:VEVENT
UID:19@www.maximuspetstore.com
DTSTAMP:20260422T111514Z
DTSTART:20260217T1000 AM00
DTEND:20260217T1130 AM00
SUMMARY:Dog Grooming Demo
DESCRIPTION:
END:VEVENT
END:VCALENDAR
