BEGIN:VCALENDAR
VERSION:2.0
PRODID:-//Pecos River Trading//Events//EN
BEGIN:VEVENT
UID:20@www.maximuspetstore.com
DTSTAMP:20260422T111339Z
DTSTART:20260224T200 PM00
DTEND:20260224T400 PM00
SUMMARY:Small Pet Social
DESCRIPTION:
END:VEVENT
END:VCALENDAR
