BEGIN:VCALENDAR
VERSION:2.0
PRODID:-//Pecos River Trading//Events//EN
BEGIN:VEVENT
UID:21@www.maximuspetstore.com
DTSTAMP:20260422T111211Z
DTSTART:20260303T900 AM00
DTEND:20260303T1200 PM00
SUMMARY:Pet First Aid Basics
DESCRIPTION:
END:VEVENT
END:VCALENDAR
