BEGIN:VCALENDAR
VERSION:2.0
PRODID:-//Pecos River Trading//Events//EN
BEGIN:VEVENT
UID:22@www.maximuspetstore.com
DTSTAMP:20260422T111651Z
DTSTART:20260310T1000 AM00
DTEND:20260310T1130 AM00
SUMMARY:Senior Pet Care Seminar
DESCRIPTION:
END:VEVENT
END:VCALENDAR
