BEGIN:VCALENDAR
VERSION:2.0
PRODID:-//Pecos River Trading//Events//EN
BEGIN:VEVENT
UID:23@www.maximuspetstore.com
DTSTAMP:20260422T125722Z
DTSTART:20260317T1000 AM00
DTEND:20260317T500 PM00
SUMMARY:Tropical Fish Show
DESCRIPTION:
END:VEVENT
END:VCALENDAR
