BEGIN:VCALENDAR
VERSION:2.0
PRODID:-//Pecos River Trading//Events//EN
BEGIN:VEVENT
UID:24@www.maximuspetstore.com
DTSTAMP:20260422T125337Z
DTSTART:20260324T100 PM00
DTEND:20260324T230 PM00
SUMMARY:Kitten Kindergarten
DESCRIPTION:
END:VEVENT
END:VCALENDAR
