BEGIN:VCALENDAR
VERSION:2.0
PRODID:-//Pecos River Trading//Events//EN
BEGIN:VEVENT
UID:25@www.maximuspetstore.com
DTSTAMP:20260422T125409Z
DTSTART:20260331T900 AM00
DTEND:20260331T500 PM00
SUMMARY:Pet Photography Day
DESCRIPTION:
END:VEVENT
END:VCALENDAR
